BEGIN:VCALENDAR
VERSION:2.0
PRODID:-//wildwechsel//wildwechsel.de//DE
METHOD:PUBLISH
CALSCALE:GREGORIAN
BEGIN:VEVENT
DTSTART:20260423T190000
DTEND:20260423T230000
LOCATION:Interim des Staatstheater Kassel\, \, Kassel
DTSTAMP:20260422T185650
SUMMARY:Ww-Terminator: Zornfried (UA) - Kassel
URL;VALUE=URI:https://www.wildwechsel.de/wildwechsel-terminator/event/zornfried-ua-interim-des-staatstheater-kassel-kassel-267345/
CLASS:PUBLIC
DESCRIPTION:Auf Burg Zornfried versammeln sich die Vordenker einer Neuen Rechten: Eine Burgherrin philosophiert völkisch, junge Männergruppen ertüchtigen kämpferisch ihre Leiber, und ein geheimnisvoller Dichter schmiedet Verse, die von Blut, Weihe und Kitsch triefen. Und immer wieder schimmern Verbindungen zu einer erstarkenden neuen Partei auf. Das lockt auch kritische Journalist:innen an, die das neu-rechte Kulturzentrum großspurig begleiten – und dabei jede Distanz verlieren und der Demokratie einen Bärendienst erweisen.

 

Jörg-Uwe Albig hat 2019 mit Zornfried (UA) eines „der wichtigsten Bücher des Jahres“ (FAZ) geschrieben. In der Kasseler Uraufführung als Romanadaption verwischen bei teilnehmender Beobachtung und beobachtender Teilnahme zunehmend die Grenzen: Wehrsportübungen, Wagner und weihevolle Tafelrunden erfüllen die Aura der alten preußischen Jägerkaserne um das INTERIM. 

 

Komponist Philipp Krebs ist eine preisgekrönte neue Stimme im Musiktheater und macht sich für Zornfried (UA) auf die Suche nach der grotesken Horrorvision neuer deutscher Tonalität. Im Untergrund seiner avancierten Klangsprache mit großem Orchester raunt es immer mal wieder leitmotivisch, nationalromantische Klänge vermischen sich mit biersaurem Volksmusikschlager und Retro-Kitsch, und unter verlockend-augenzwinkernder Leichtigkeit lauert der tiefbraune Abgrund. Regisseurin Kerstin Steeb und Dirigent Viktor Jugović spitzen die Realsatire als raumgreifendes neues Musiktheater zu, bei dem man allzu schnell schuldlos schuldig wird.

 

Ein Kompositionsauftrag des Staatstheaters Kassel, finanziert von der von der Ernst von Siemens Musikstiftung.
UID:20260422T185650-20260423T190000-20260423T230000
END:VEVENT
END:VCALENDAR