BEGIN:VCALENDAR
VERSION:2.0
PRODID:-//wildwechsel//wildwechsel.de//DE
METHOD:PUBLISH
CALSCALE:GREGORIAN
BEGIN:VEVENT
DTSTART:20260422T193000
DTEND:20260422T233000
LOCATION:Haus Krus Bellersen\, \, Brakel\, Westfalen
DTSTAMP:20260420T211133
SUMMARY:Ww-Terminator: Zeitreise zu den Wurzeln von 'König Fußball' - Brakel, Westfalen
URL;VALUE=URI:https://www.wildwechsel.de/wildwechsel-terminator/event/zeitreise-zu-den-wurzeln-von-koenig-fussball-haus-krus-bellersen-brakel-westfalen-267217/
CLASS:PUBLIC
DESCRIPTION:Vortragsabend in Bellersen: Fußballgeschichte im Kreis Höxter

Am 22. April 2026 steht in Brakel-Bellersen ein besonderer Themenabend auf dem Programm, der sich den Ursprüngen des Fußballs in der Region widmet. Veranstaltungsort ist das Haus Krus, wo ab 19:30 Uhr ein informativer Vortrag Einblicke in die Entwicklung des Sports im Kreis Höxter bietet. Der Eintritt ist kostenfrei.

Einblicke in die Anfänge des regionalen Fußballs

Im Mittelpunkt des Abends stehen die frühen Jahre des organisierten Fußballs zwischen 1918 und 1945. Referent Hubertus Grimm beleuchtet auf Basis umfangreicher Recherchen die Pionierzeit des Sports und zeichnet ein differenziertes Bild der damaligen Entwicklungen. Dabei werden auch verbreitete Annahmen kritisch hinterfragt und durch historische Fakten ergänzt.

Tradition und Vereinsgeschichte im Fokus

Ein besonderer Schwerpunkt liegt auf der Geschichte des TuS 20 Bellersen. Historische Dokumente und überlieferte Begebenheiten geben Einblick in die Anfänge des Vereinslebens. So zeigt ein früher Spielbericht aus dem Jahr 1921 eindrucksvoll, wie stark Gemeinschaft und Vereinsgeist bereits damals ausgeprägt waren – von der Ernennung eines Ehrenvorsitzenden bis hin zu gemeinsamen Feierlichkeiten.

Der Vortragsabend wird vom Heimat- und Verkehrsverein Bellersen organisiert und bietet eine fundierte Auseinandersetzung mit der regionalen Sportgeschichte.
UID:20260420T211133-20260422T193000-20260422T233000
END:VEVENT
END:VCALENDAR