BEGIN:VCALENDAR
VERSION:2.0
PRODID:-//wildwechsel//wildwechsel.de//DE
METHOD:PUBLISH
CALSCALE:GREGORIAN
BEGIN:VEVENT
DTSTART:20260508T200000
DTEND:20260509T000000
LOCATION:Erwin-Piscator-Haus - Stadthalle Marburg\, \, Marburg
DTSTAMP:20260420T194823
SUMMARY:Ww-Terminator: Wok-Life-Balance - Tutty Tran - Marburg
URL;VALUE=URI:https://www.wildwechsel.de/wildwechsel-terminator/event/wok-life-balance-tutty-tran-erwin-piscator-haus-stadthalle-marburg-marburg-244924/
CLASS:PUBLIC
DESCRIPTION:Fr 08.Mai 2026 um 20:00 im Erwin-Piscator-Haus - Stadthalle Marburg
UID:20260420T194823-20260508T200000-20260509T000000
END:VEVENT
END:VCALENDAR