BEGIN:VCALENDAR
VERSION:2.0
PRODID:-//wildwechsel//wildwechsel.de//DE
METHOD:PUBLISH
CALSCALE:GREGORIAN
BEGIN:VEVENT
DTSTART:20261121T180000
DTEND:20261121T220000
LOCATION:Tierpark Sababurg\, \, Hofgeismar
DTSTAMP:20260423T184138
SUMMARY:Ww-Terminator: Vollmondführungen im November - Hofgeismar
URL;VALUE=URI:https://www.wildwechsel.de/%20wildwechsel-terminator/event/vollmondfuehrungen-im-november-tierpark-sababurg-hofgeismar-267186/
CLASS:PUBLIC
DESCRIPTION:Vollmondführung im Tierpark Sababurg

Nächtliche Entdeckungstour im besonderen Ambiente

Wenn der Vollmond den Tierpark Sababurg in ein sanftes Licht taucht, eröffnet sich eine außergewöhnliche Perspektive auf die Tierwelt. Die beliebten Vollmondführungen ermöglichen einen geführten Rundgang durch den nächtlichen Park, bei dem die Aktivitäten der Tiere in der Dunkelheit im Mittelpunkt stehen.

Spannende Einblicke und stimmungsvolle Atmosphäre

Während der Tour vermitteln erfahrene Guides interessantes Wissen über das Verhalten der Tiere bei Nacht und geben Einblicke in ihre Lebensweise. Die besondere Stimmung zwischen alten Bäumen und nächtlichen Geräuschen sorgt für ein intensives Naturerlebnis abseits des Tagesbetriebs.

Gemütlicher Ausklang am Lagerfeuer

Nach dem Rundgang klingt der Abend in entspannter Atmosphäre am Lagerfeuer aus. Serviert wird je nach Tagesangebot eine Gulaschsuppe oder eine vegane Eintopf-Variante, die den Abend kulinarisch abrundet.

Aufgrund der großen Nachfrage empfiehlt sich eine frühzeitige Ticketreservierung, da die Führungen regelmäßig schnell ausgebucht sind.
UID:20260423T184138-20261121T180000-20261121T220000
END:VEVENT
END:VCALENDAR