BEGIN:VCALENDAR
VERSION:2.0
PRODID:-//wildwechsel//wildwechsel.de//DE
METHOD:PUBLISH
CALSCALE:GREGORIAN
BEGIN:VEVENT
DTSTART:20270201T200000
DTEND:20270202T000000
LOCATION:Theaterstübchen\, \, Kassel
DTSTAMP:20260419T030440
SUMMARY:Ww-Terminator: VocaYou - Kassel
URL;VALUE=URI:https://www.wildwechsel.de/wildwechsel-terminator/event/vocayou-theaterstuebchen-266016/
CLASS:PUBLIC
DESCRIPTION:VocaYou - A cappella Band aus Berlin - begeistern ihr Publikum mit einem vielseitigen Programm aus bekannten Jazz- und Poparrangements, Swing-Stücken und Songs verschiedener Kulturen und Sprachen. Dabei zeigen die Sänger*innen die gesamte Bandbreite an stimmlichen Sound: mal gefühlvolle Soli, rockige Improvisationen und funkige »Bläser-Sounds«, die im nächsten Moment perfekt im fünfstimmigen Gesang miteinander verschmelzen. Ihr Motto »Die Welt ist bunt« steht aber nicht für die knalligen Outfits der Band und ihr facettenreiches Programm, sondern auch für kulturelle Vielfalt und Toleranz. So finden sich neben bekannten Songs wie »Sound of silence«, »feeling good« und »true colors« auch Stücke, die zum Nachdenken anregen und die Bedeutung einer »bunten Welt« in den Vordergrund rücken. VocaYou setzen mit ihrem »farbenfrohen« Programm einen eigenen Akzent im A cappella-Gesang.

Eugen
Jonas
Jenny
Sylvia
Miriam
UID:20260419T030440-20270201T200000-20270202T000000
END:VEVENT
END:VCALENDAR