BEGIN:VCALENDAR
VERSION:2.0
PRODID:-//wildwechsel//wildwechsel.de//DE
METHOD:PUBLISH
CALSCALE:GREGORIAN
BEGIN:VEVENT
DTSTART:20260920T190000
DTEND:20260920T230000
LOCATION:Bürgerhaus Gudensberg\, \, Gudensberg
DTSTAMP:20260421T143142
SUMMARY:Ww-Terminator: VIP - Very Important Pflägekraft - Sybille Bullatschek - Gudensberg
URL;VALUE=URI:https://www.wildwechsel.de/wildwechsel-terminator/event/vip-very-important-pflaegekraft-sybille-bullatschek-buergerhaus-gudensberg-gudensberg-267120/
CLASS:PUBLIC
DESCRIPTION:Sybille Bullatschek: VIP - Very Important Pflägekraft
Sonntag, 20.09.2026 | 19:00
Bürgerhaus Gudensberg
UID:20260421T143142-20260920T190000-20260920T230000
END:VEVENT
END:VCALENDAR