BEGIN:VCALENDAR
VERSION:2.0
PRODID:-//wildwechsel//wildwechsel.de//DE
METHOD:PUBLISH
CALSCALE:GREGORIAN
BEGIN:VEVENT
DTSTART:20260501T140000
DTEND:20260501T180000
LOCATION:Sportplatz Nörde\, \, Warburg-Nörde
DTSTAMP:20260420T193921
SUMMARY:Ww-Terminator: Vibe Community Picknick - Warburg-Nörde
URL;VALUE=URI:https://www.wildwechsel.de/wildwechsel-terminator/event/vibe-community-picknick-sportplatz-noerde-warburg-noerde-267204/
CLASS:PUBLIC
DESCRIPTION:Die Vibe Community lädt euch zum nächsten gemeinsamen Feiertag auf dem Sportplatz in Nörde ein – ein offenes, generationenübergreifendes Treffen für alle, die Lust auf gute Musik, entspannte Menschen und echte Community haben. 

Zwei Floors. Ein Gefühl.
Auch 2026 bringen wir wieder zwei Floors an den Start.
Elektronische Musik in all ihren Facetten – von entspanntem Day-Vibe bis zu treibenden Beats in der Nacht.

Unser Fokus bleibt klar:
Musik als verbindendes Element.
Kein Kommerz, kein Schnickschnack – sondern ehrliche Sets, gute Energie und gemeinsames Tanzen unter freiem Himmel.

Tagsüber entspannt – nachts intensiv
Wir starten um 14:00 Uhr mit Sonne, Gesprächen, kühlen Getränken und familiärer Atmosphäre.

Und weil es im letzten Jahr einfach zu schön war, gehen wir dieses Mal noch ein Stück weiter:
Wir feiern gemeinsam bis in die Nacht.

Von Picknick-Decke bis Dancefloor – alles kann, nichts muss.

Fürs leibliche Wohl ist gesorgt
Natürlich erwarten euch wieder leckere Speisen und eine breite Auswahl an Getränken.
Ob entspannt zusammensitzen oder Energie nachtanken zwischen zwei Tracks – ihr seid versorgt.
Also:
Freunde einpacken. Familie mitbringen. Sonnenbrille nicht vergessen.
UID:20260420T193921-20260501T140000-20260501T180000
END:VEVENT
END:VCALENDAR