BEGIN:VCALENDAR
VERSION:2.0
PRODID:-//wildwechsel//wildwechsel.de//DE
METHOD:PUBLISH
CALSCALE:GREGORIAN
BEGIN:VEVENT
DTSTART:20261030T193000
DTEND:20261030T233000
LOCATION:Bürgerhaus Gudensberg\, \, Gudensberg
DTSTAMP:20260421T144738
SUMMARY:Ww-Terminator: uns.ich.er - Max Uthoff - Gudensberg
URL;VALUE=URI:https://www.wildwechsel.de/wildwechsel-terminator/event/unsicher-max-uthoff-buergerhaus-gudensberg-gudensberg-267119/
CLASS:PUBLIC
DESCRIPTION:Fr 30.Okt 2026 um 19:30 im Bürgerhaus Gudensberg
UID:20260421T144738-20261030T193000-20261030T233000
END:VEVENT
END:VCALENDAR