BEGIN:VCALENDAR
VERSION:2.0
PRODID:-//wildwechsel//wildwechsel.de//DE
METHOD:PUBLISH
CALSCALE:GREGORIAN
BEGIN:VEVENT
DTSTART:19700101T010000
DTEND:19700101T010000
LOCATION:Tierpark Sababurg\, \, Hofgeismar
DTSTAMP:20260423T183513
SUMMARY:Ww-Terminator: Tierweihnacht - Hofgeismar
URL;VALUE=URI:https://www.wildwechsel.de/%20wildwechsel-terminator/event/tierweihnacht-tierpark-sababurg-hofgeismar-267190/
CLASS:PUBLIC
DESCRIPTION:Weihnachtsbesuch im Tierpark Sababurg

Festliche Stimmung an der Elch-Lodge

In der winterlichen Atmosphäre des Tierpark Sababurg kündigt sich ein besonderer Gast an: Der Weihnachtsmann legt einen Zwischenstopp an der Elch-Lodge ein und sorgt für besinnliche Momente im Park.

Geschichten und Erinnerungsfotos

Vor Ort erzählt er weihnachtliche Geschichten und schafft damit eine stimmungsvolle Kulisse für kleine und große Besucher. Zudem besteht die Möglichkeit, Erinnerungsfotos mit dem Weihnachtsmann zu machen und den Besuch festzuhalten.

Weitere Programmpunkte werden noch bekannt gegeben.
UID:20260423T183513-19700101T010000-19700101T010000
END:VEVENT
END:VCALENDAR