BEGIN:VCALENDAR
VERSION:2.0
PRODID:-//wildwechsel//wildwechsel.de//DE
METHOD:PUBLISH
CALSCALE:GREGORIAN
BEGIN:VEVENT
DTSTART:20260523T220000
DTEND:20260524T020000
LOCATION:KFZ Marburg\, \, Marburg
DTSTAMP:20260420T003049
SUMMARY:Ww-Terminator: The Taylor & Harry Night - Marburg
URL;VALUE=URI:https://www.wildwechsel.de/wildwechsel-terminator/event/the-taylor-harry-night-kfz-marburg-marburg-267121/
CLASS:PUBLIC
DESCRIPTION:Am Samstag, den 23. Mai 2026, lädt das KFZ Marburg ab 22 Uhr zu einer besonderen Partynacht ein, die ganz im Zeichen zweier internationaler Pop-Ikonen steht. Unter dem Titel „The Taylor & Harry Night“ erwartet das Publikum ein musikalischer Mix, der die größten Hits und beliebtesten Tracks beider Künstler vereint und für eine ausgelassene Stimmung auf der Tanzfläche sorgt.

Die Veranstaltung richtet sich an alle, die moderne Popmusik feiern und die Songs von Taylor Swift und Harry Styles in einem Clubkontext erleben möchten. Mit einem sorgfältig kuratierten Sound entsteht ein abwechslungsreicher Abend, der sowohl tanzbare Beats als auch emotionale Klassiker bereithält.

Der Eintritt beträgt 15 Euro an der Abendkasse, im Vorverkauf sind Tickets bereits für 11 Euro erhältlich. Damit bietet die Party eine attraktive Gelegenheit, einen stimmungsvollen Abend in zentraler Lage von Marburg zu verbringen.
UID:20260420T003049-20260523T220000-20260524T020000
END:VEVENT
END:VCALENDAR