BEGIN:VCALENDAR
VERSION:2.0
PRODID:-//wildwechsel//wildwechsel.de//DE
METHOD:PUBLISH
CALSCALE:GREGORIAN
BEGIN:VEVENT
DTSTART:20270115T203000
DTEND:20270116T003000
LOCATION:Stadthalle Kassel / Kongress Palais Kassel\, \, Kassel
DTSTAMP:20260419T171048
SUMMARY:Ww-Terminator: The Music Of Queen Live - Tour 2027 - Valentin Findling und Liveband - Kassel
URL;VALUE=URI:https://www.wildwechsel.de/wildwechsel-terminator/event/the-music-of-queen-live-tour-2027-valentin-findling-und-liveband-stadthalle-kassel-kongress-palais-kassel-kassel-267018/
CLASS:PUBLIC
DESCRIPTION:Fr 15.Jan 2027 um 20:30 im Stadthalle Kassel / Kongress Palais Kassel
UID:20260419T171048-20270115T203000-20270116T003000
END:VEVENT
END:VCALENDAR