BEGIN:VCALENDAR
VERSION:2.0
PRODID:-//wildwechsel//wildwechsel.de//DE
METHOD:PUBLISH
CALSCALE:GREGORIAN
BEGIN:VEVENT
DTSTART:20260509T200000
DTEND:20260510T000000
LOCATION:Erwin-Piscator-Haus - Stadthalle Marburg\, \, Marburg
DTSTAMP:20260424T072757
SUMMARY:Ww-Terminator: The Best of Queen - Break Free - Marburg
URL;VALUE=URI:https://www.wildwechsel.de/wildwechsel-terminator/event/the-best-of-queen-break-free-erwin-piscator-haus-stadthalle-marburg-marburg-248363/
CLASS:PUBLIC
DESCRIPTION:Sa 09.Mai 2026 um 20:00 im Erwin-Piscator-Haus - Stadthalle Marburg
UID:20260424T072757-20260509T200000-20260510T000000
END:VEVENT
END:VCALENDAR