BEGIN:VCALENDAR
VERSION:2.0
PRODID:-//wildwechsel//wildwechsel.de//DE
METHOD:PUBLISH
CALSCALE:GREGORIAN
BEGIN:VEVENT
DTSTART:20260509T190000
DTEND:20260509T230000
LOCATION:Mehrzweckhalle Scherfede\, \, Warburg
DTSTAMP:20260424T052559
SUMMARY:Ww-Terminator: The AC/DC Master-Band mit Nick Young - Warburg
URL;VALUE=URI:https://www.wildwechsel.de/wildwechsel-terminator/event/the-ac-dc-master-band-mit-nick-young-mehrzweckhalle-scherfede-warburg-262834/
CLASS:PUBLIC
DESCRIPTION:<h4>Nick Young bringt den Spirit von AC/DC live auf die Bühne</h4>
Mit der AC/DC Master-Band steht ein energiegeladenes Tribute-Erlebnis an, das die legendäre Rockband mit voller Wucht und Authentizität feiert. Angeführt von Frontmann Nick Young, überzeugt die Show mit musikalischer Präzision, roher Power und einer Performance, die dem Original in nichts nachsteht.

<h4>Ein Abend im Zeichen des puren Rock’n’Roll</h4>
Die AC/DC Master-Band versteht es, die charakteristischen Sounds der australischen Rock-Ikonen detailgetreu zu reproduzieren – von donnernden Riffs über markante Vocals bis hin zur mitreißenden Bühnenpräsenz. Mit Songs wie „Highway to Hell“, „Back in Black“ oder „Thunderstruck“ wird das Publikum in eine Ära zurückversetzt, in der Rockmusik noch kompromisslos und laut war.

<h4>Tickets für das Konzert hier auf Wildwechsel.de erhältlich</h4>
Ein Pflichttermin für Rockfans und all jene, die den unverwechselbaren Sound von AC/DC live erleben möchten. Die Tickets sind ab sofort <strong>hier auf Wildwechsel.de</strong> erhältlich.
UID:20260424T052559-20260509T190000-20260509T230000
END:VEVENT
END:VCALENDAR