BEGIN:VCALENDAR
VERSION:2.0
PRODID:-//wildwechsel//wildwechsel.de//DE
METHOD:PUBLISH
CALSCALE:GREGORIAN
BEGIN:VEVENT
DTSTART:20260424T173000
DTEND:20260424T213000
LOCATION:Bühneneingang Staatstheater in der Du-Ry-Straße 1\, \, Kassel
DTSTAMP:20260422T184213
SUMMARY:Ww-Terminator: TANZ_Mit! - Kassel
URL;VALUE=URI:https://www.wildwechsel.de/wildwechsel-terminator/event/tanzmit-buehneneingang-staatstheater-in-der-du-ry-strasse-1-kassel-267354/
CLASS:PUBLIC
DESCRIPTION:Seien Sie mutig und stehen Sie auf vom Sofa! TANZ_Mit! ist das Tanztraining für alle Tanzbegeisterten, die erste Schritte in angeleiteten Improvisationen und die Bewegungsvielfalt des Zeitgenössischen Tanzes kennenlernen möchten. Vorkenntnisse sind nicht notwendig, nur bequeme Kleidung und etwas zu trinken. Treffpunkt 15 Minuten vor Beginn am Bühneneingang (Du-Ry-Straße 1).

Begrenzte Teilnehmer:innenanzahl mit vorherigem Kartenkauf für 3,50,- Euro an der Theaterkasse.
UID:20260422T184213-20260424T173000-20260424T213000
END:VEVENT
END:VCALENDAR