BEGIN:VCALENDAR
VERSION:2.0
PRODID:-//wildwechsel//wildwechsel.de//DE
METHOD:PUBLISH
CALSCALE:GREGORIAN
BEGIN:VEVENT
DTSTART:20260613T200000
DTEND:20260614T000000
LOCATION:KFZ Marburg\, \, Marburg
DTSTAMP:20260422T154405
SUMMARY:Ww-Terminator: tanzbar spezial - DJ Nana - Marburg
URL;VALUE=URI:https://www.wildwechsel.de/wildwechsel-terminator/event/tanzbar-spezial-dj-nana-kfz-marburg-marburg-267275/
CLASS:PUBLIC
DESCRIPTION:Alternative Tanzparty für Leute ab 35, 45, 55...
Das Original!

Einlass: 20 Uhr
Eintritt: 5 € (Garderobe kostenlos)

 

Veranstalter*in: Das TANZBAR-Team
UID:20260422T154405-20260613T200000-20260614T000000
END:VEVENT
END:VCALENDAR