BEGIN:VCALENDAR
VERSION:2.0
PRODID:-//wildwechsel//wildwechsel.de//DE
METHOD:PUBLISH
CALSCALE:GREGORIAN
BEGIN:VEVENT
DTSTART:20260509T190000
DTEND:20260509T230000
LOCATION:Stadthalle Göttingen\, \, Göttingen
DTSTAMP:20260422T210606
SUMMARY:Ww-Terminator: Swing - Glenn Miller Orchestra for Europe directed by Uli Plettendorff - Göttingen
URL;VALUE=URI:https://www.wildwechsel.de/wildwechsel-terminator/event/swing-glenn-miller-orchestra-for-europe-directed-by-uli-plettendorff-stadthalle-goettingen-goettingen-267262/
CLASS:PUBLIC
DESCRIPTION:Samstag, 09.05.2026, 20 Uhr, Göttingen, Stadthalle
Fast 90 Jahre nach der Gründung sind Glenn Miller und sein Orchester bis heute die unbestrittenen 'Kings of Swing' und bereichern die Musikwelt mit unzähligen unvergesslichen Songs und Arrangements. 

Mit seinem Programm 'Swing Forever' präsentiert das Original Glenn Miller Orchestra Highlights wie 'In the Mood', 'Moonlight Serenade', 'Chattanooga Choo Choo', 'Pennsylvania 6-5000', 'Tuxedo Junction' oder 'American Patrol' und bringt damit bis heute jeden Konzertsaal zum Toben. 

Die Mischung von 'knallenden' Trompeten und den berühmten vier Saxophonen und einer Klarinette geht vom Gehörgang geradewegs in die Beine. So wird jede Location zum 'Swing Tempel' der 40er Jahre. 

Glenn Miller erhielt die erste goldene Schallplatte der Musikgeschichte und war schon zu Lebzeiten ein Idol, dem Musikfans in aller Welt begeistert lauschten, daher erschütterte die Nachricht von seinem Tod Millionen von Liebhabern seiner Musik. 
Nach seinem tragischen Tod wuchs die Glenn Miller-Legende - die Faszination seiner Musik blieb und begeisterte weiter Menschen rund um den Globus und in allen Altersstufen. 

Immer wieder mussten seine Platten neu aufgelegt werden und seine Filme wurden von den TV-Stationen ausgestrahlt - die Legende wurde zum Mythos. 

Das 'Original Glenn Miller Orchestra' ist das einzige Orchester europaweit, welches die Original-Arrangements besitzt und spielen darf. 

KARTENVORVERKAUF
An allen bekannten Vorverkaufsstellen

WEITERE INFOS & TICKETS PER POST
Phone +49 61 85 / 81 86 22
www.glenn-miller.de
UID:20260422T210606-20260509T190000-20260509T230000
END:VEVENT
END:VCALENDAR