BEGIN:VCALENDAR
VERSION:2.0
PRODID:-//wildwechsel//wildwechsel.de//DE
METHOD:PUBLISH
CALSCALE:GREGORIAN
BEGIN:VEVENT
DTSTART:19700101T010000
DTEND:19700101T010000
LOCATION:Olympiapark München\, \, München
DTSTAMP:20260419T235420
SUMMARY:Ww-Terminator: Superbloom 2026 Experience Day - Berq + Zartmann + SDP + Tash Sultana + BBNO$ + Ritter Lean und mehr - München
URL;VALUE=URI:https://www.wildwechsel.de/wildwechsel-terminator/event/superbloom-2026-experience-day-berq-zartmann-sdp-tash-sultana-bbno-ritter-lean-und-mehr-olympiapark-muenchen-muenchen-267202/
CLASS:PUBLIC
DESCRIPTION:Die SUPER BLOOM EXPERIENCE 2026 bringt am Samstag, den 29. August 2026 ein vielfältiges Musik- und Kulturprogramm zusammen, das Pop, Indie, Hip-Hop und alternative Sounds auf einer großen Festivalbühne vereint.

Zu den Headlinern zählen unter anderem SDP, die mit ihrem genreübergreifenden Mix aus Pop, Rap und Humor seit Jahren Festivalbühnen prägen, sowie Zartmann, der für modernen Indie-Pop mit emotionaler Tiefe steht. Ebenfalls mit dabei ist die international gefeierte Multi-Instrumentalistin Tash Sultana, bekannt für ihre atmosphärischen Live-Performances zwischen Psychedelic, Rock und Loop-basierten Soundlandschaften. Ergänzt wird das Line-up durch den kanadischen Rap-Export Bbno$, der mit humorvollen, energiegeladenen Tracks für Party-Vibes sorgt.

Weitere Highlights sind Ritter Lean, Monet192, BERQ, Asha Banks, Jolle und viele weitere Acts, die das Festivalprogramm stilistisch breit aufstellen. Neben Musik sorgt auch Spoken Word Artist Merve für zusätzliche kulturelle Akzente.
UID:20260419T235420-19700101T010000-19700101T010000
END:VEVENT
END:VCALENDAR