BEGIN:VCALENDAR
VERSION:2.0
PRODID:-//wildwechsel//wildwechsel.de//DE
METHOD:PUBLISH
CALSCALE:GREGORIAN
BEGIN:VEVENT
DTSTART:20260901T190000
DTEND:20260901T230000
LOCATION:Olympiapark München\, \, München
DTSTAMP:20260420T001439
SUMMARY:Ww-Terminator: Superbloom 2026 Concerts - Somber + Ennio - München
URL;VALUE=URI:https://www.wildwechsel.de/wildwechsel-terminator/event/superbloom-2026-concerts-somber-ennio-olympiapark-muenchen-muenchen-267036/
CLASS:PUBLIC
DESCRIPTION:Das SUPERBLOOM Festival steht ganz im Zeichen seines Mottos „Celebrate the Moment“ und verwandelt den Olympiapark München in eine farbenfrohe Erlebniswelt voller Musik, Kunst und Emotionen. Zwischen weitläufigen Wiesen, ikonischer Architektur und pulsierenden Bühnen verschmelzen Natur und Sound zu einer einzigartigen Festivalatmosphäre. Mit Acts wie Sombr und Ennio treffen internationale Indie-Vibes auf gefühlvollen deutschsprachigen Pop und schaffen einen spannenden musikalischen Kontrast. Während Sombr mit modernen Alternative-Klängen und intensiver Energie überzeugt, berührt Ennio mit persönlichen Texten und eingängigen Melodien. Besucher erwartet ein Abend, der sowohl zum Tanzen als auch zum Innehalten einlädt, getragen von einer besonderen Mischung aus Euphorie und Melancholie. Das SUPERBLOOM ist dabei mehr als nur ein Konzert – es ist ein Ort der Begegnung, der Kreativität und des gemeinsamen Erlebens, an dem Musikfans unvergessliche Momente unter freiem Himmel teilen.
UID:20260420T001439-20260901T190000-20260901T230000
END:VEVENT
END:VCALENDAR