BEGIN:VCALENDAR
VERSION:2.0
PRODID:-//wildwechsel//wildwechsel.de//DE
METHOD:PUBLISH
CALSCALE:GREGORIAN
BEGIN:VEVENT
DTSTART:20260904T173000
DTEND:20260904T213000
LOCATION:Olympiapark München\, \, München
DTSTAMP:20260419T223535
SUMMARY:Ww-Terminator: Superbloom 2026 Concerts - Paul Kalkbrenner + Monolink - München
URL;VALUE=URI:https://www.wildwechsel.de/wildwechsel-terminator/event/superbloom-2026-concerts-paul-kalkbrenner-monolink-olympiapark-muenchen-muenchen-267128/
CLASS:PUBLIC
DESCRIPTION:Im Rahmen der „SUPERBLOOM 2026 Concerts“ findet in diesem Jahr im Olympiapark in München statt. Eine Woche mit Live-Musik, Emotionen und besonderen Konzertmomenten erwartetet die Besucher. Im Rahmen der neuen Konzertreihe, die am 31. August bis 04. September stattfindet. Amm Freitagabend werden die Acts Paul Kalkenbrenner und Monolink auftreten. 

Mit Paul Kalkbrenner steht einer der prägendsten Künstler der europäischen Techno-Szene auf dem Programm. Seine Live-Sets verbinden treibende Beats mit eingängigen Melodien und haben ihm weltweit Kultstatus eingebracht.
Ebenfalls im Line-up: Monolink, der für seine einzigartige Mischung aus elektronischer Musik, Singer-Songwriter-Elementen und emotionalen Vocals bekannt ist. Seine Performances bewegen sich zwischen Club, Konzert und atmosphärischem Live-Erlebnis.
Gemeinsam sorgen beide Acts für einen Abend zwischen Melodic Techno, Deep House und elektronischer Live-Performance – eingebettet in die besondere Kulisse des Olympiaparks.
UID:20260419T223535-20260904T173000-20260904T213000
END:VEVENT
END:VCALENDAR