BEGIN:VCALENDAR
VERSION:2.0
PRODID:-//wildwechsel//wildwechsel.de//DE
METHOD:PUBLISH
CALSCALE:GREGORIAN
BEGIN:VEVENT
DTSTART:20260831T180000
DTEND:20260831T220000
LOCATION:Olympiapark München\, \, München
DTSTAMP:20260419T235426
SUMMARY:Ww-Terminator: Superbloom 2026 Concerts - Lorde + Audrey Hobert + Lykke Li - München
URL;VALUE=URI:https://www.wildwechsel.de/wildwechsel-terminator/event/superbloom-2026-concerts-lorde-audrey-hobert-lykke-li-olympiapark-muenchen-muenchen-267026/
CLASS:PUBLIC
DESCRIPTION:Das SUPERBLOOM Festival 2026 verwandelt den Olympiapark München erneut in eine Woche voller Live-Musik, Emotionen und besonderen Konzertmomenten. Im Rahmen der neuen Konzertreihe, die vom 31. August bis 4. September stattfindet, präsentiert sich jeden Abend ein internationaler oder nationaler Top-Act mit ausgewählten Special Guests.
Am Montag, den 31.08.2026, steht Lorde im Mittelpunkt des Abends. 

Die Grammy-prämierte Künstlerin zählt seit ihrem Durchbruch mit “Pure Heroine” zu den prägendsten Stimmen des modernen Pop. Mit ihrer Mischung aus introspektiven Texten und genreübergreifendem Sound hat sie weltweit Maßstäbe gesetzt. Ihr aktuelles musikalisches Kapitel, eröffnet mit neuen Releases ab 2025, zeigt sie weiterhin experimentierfreudig und künstlerisch eigenständig.

Als Support begleitet Audrey Hobert den Abend. Die in New York geborene und in Los Angeles aufgewachsene Singer-Songwriterin bringt frischen Indie-Pop-Sound mit und gilt als vielversprechende Newcomerin der internationalen Poplandschaft.
Der Konzertabend beginnt um 18:00 Uhr im Olympiapark München und ist Teil der neu konzipierten SUPERBLOOM-Konzertwoche, die ein tägliches Line-up hochkarätiger Künstler bietet.
UID:20260419T235426-20260831T180000-20260831T220000
END:VEVENT
END:VCALENDAR