BEGIN:VCALENDAR
VERSION:2.0
PRODID:-//wildwechsel//wildwechsel.de//DE
METHOD:PUBLISH
CALSCALE:GREGORIAN
BEGIN:VEVENT
DTSTART:20260902T180000
DTEND:20260902T220000
LOCATION:Olympiapark München\, \, München
DTSTAMP:20260419T235435
SUMMARY:Ww-Terminator: Superbloom 2026 Concerts - Lewis Capaldi + Bastille + Jessie Murph - München
URL;VALUE=URI:https://www.wildwechsel.de/wildwechsel-terminator/event/superbloom-2026-concerts-lewis-capaldi-bastille-jessie-murph-olympiapark-muenchen-muenchen-267086/
CLASS:PUBLIC
DESCRIPTION:Das SUPERBLOOM Festival 2026 verwandelt den Olympiapark München erneut in eine Woche voller Live-Musik, Emotionen und besonderen Konzertmomenten. Im Rahmen der neuen Konzertreihe, die vom 31. August bis 4. September stattfindet, präsentiert sich jeden Abend ein internationaler oder nationaler Top-Act mit ausgewählten Special Guests.
Am Mittwoch, den 02.09.2026, steht Lewis Capaldi im Mittelpunkt des Abends.

Lewis Capaldi hatte seinen großen Durchbruch 2019 mit seinen Song 'Someone You Loved'. Mit dieser Single erreichte er Nummer 1 in UK und später auch in den USA. Im jähr 2019 machte ihn 'Someone You Loved' zu den größten Pop-Acts des Jahres. Seine Musik ist oft von Herzschmerz, Verlust, Verletzlichkeit und sehr persönlichen Texten geprägt. Seine rau, emotional, leicht 'gebrochene' Stimme gibt den ganzen eine besondere Note. In den letzten Jahren nach seinem großen Erfolg sind seine Songs weiterhin emotional, aber etwas hoffnungsvoller. Seine Musik spricht, die Themen mentale Gesundheit und Selbstzweifel an.

Als Support begleiten die Künstler Bastille und Jessie Murph den Abend. Bastille ist eine britische Indie-Pop-/ Alternative- Band, die besonders durch ihren mix aus eingängigen Pop-Melodien und oft nachdenklichen, düsteren Texten bekannt wurde. 'Pompeji' ist ihr größter Hit, der sie 2013 international bekannt machte. Bastille klingt insgesamt oft gleichzeitig melancholisch und sehr energiegeladen.

Jessie Murph ist eine US-amerikanische Sängerin, die vor allem durch TikTok und frühe virale Songs bekannt wurde. Ihre Musik ist sehr emotional und ehrlich und ist eine Mischung aus Pop, Country und Rap Einflüssen. Der Konzertabend beginnt um 18:00 Uhr im Olympiapark München und ist Teil der neu konzipierten SUPERBLOOM-Konzertwoche, die ein tägliches Line-up hochkarätiger Künstler bietet.
UID:20260419T235435-20260902T180000-20260902T220000
END:VEVENT
END:VCALENDAR