BEGIN:VCALENDAR
VERSION:2.0
PRODID:-//wildwechsel//wildwechsel.de//DE
METHOD:PUBLISH
CALSCALE:GREGORIAN
BEGIN:VEVENT
DTSTART:20260903T190000
DTEND:20260903T230000
LOCATION:Olympiapark München\, \, München
DTSTAMP:20260419T235429
SUMMARY:Ww-Terminator: Superbloom 2026 Concerts - Ayliva + Nico Santos - München
URL;VALUE=URI:https://www.wildwechsel.de/wildwechsel-terminator/event/superbloom-2026-concerts-ayliva-nico-santos-olympiapark-muenchen-muenchen-267123/
CLASS:PUBLIC
DESCRIPTION:Das SUPERBLOOM Festival 2026 findet diese Jahr wieder im Olympiapark in München statt. Eine Woche voller Live-Musik, Emotionen und besonderen Konzertmomenten erwartet die Besucher. Im Rahmen der neuen Konzertreihe, die vom 31. August bis 04. September stattfindet, präsentiert sich jeden Abend ein internationaler oder nationaler Top-Act mit ausgewählten Special Guests. Am Donnerstag, den 03.09.2026 stehen Ayliva und Nico Santos auf der Bühne.

Ayliva zählt zu den erfolgreichsten Newcomerinnen der letzten Jahre im Bereich Deutschpop und R&B. Mit emotionalen, sehr persönlichen Songs und einer klaren, modernen Ästhetik hat sie sich in kürzester Zeit eine große Fanbase aufgebaut. Ihre Live-Auftritte sind intensiv, nahbar und stark von Gefühl und Atmosphäre geprägt.
Nico Santos steht für zeitgemäßen Pop mit internationalem Sound. Seine Songs verbinden eingängige Melodien mit emotionalen Geschichten und sorgen regelmäßig für große Mitsing-Momente bei seinen Shows.

Gemeinsam bringt das Line-up eine Mischung aus gefühlvollem Pop, urbanen Einflüssen und radiofreundlichen Hits auf die Bühne. In der besonderen Open-Air-Kulisse des Olympiaparks entsteht so ein Konzertabend, der sowohl intime Momente als auch große Festival-Energie vereint.
UID:20260419T235429-20260903T190000-20260903T230000
END:VEVENT
END:VCALENDAR