BEGIN:VCALENDAR
VERSION:2.0
PRODID:-//wildwechsel//wildwechsel.de//DE
METHOD:PUBLISH
CALSCALE:GREGORIAN
BEGIN:VEVENT
DTSTART:20260425T230000
DTEND:20260426T030000
LOCATION:SOHO the Club\, \, Mannheim
DTSTAMP:20260422T154411
SUMMARY:Ww-Terminator: Sub Frequencies - Drum & Bass - Mannheim
URL;VALUE=URI:https://www.wildwechsel.de/wildwechsel-terminator/event/sub-frequencies-drum-bass-soho-the-club-mannheim-267272/
CLASS:PUBLIC
DESCRIPTION:Drum & Bass Night im SOHO Club Mannheim. DJs an den Decks. Eintritt AK 6€. Einlass ab 23 Uhr bis 05 Uhr.
UID:20260422T154411-20260425T230000-20260426T030000
END:VEVENT
END:VCALENDAR