BEGIN:VCALENDAR
VERSION:2.0
PRODID:-//wildwechsel//wildwechsel.de//DE
METHOD:PUBLISH
CALSCALE:GREGORIAN
BEGIN:VEVENT
DTSTART:20260508T110000
DTEND:20260508T150000
LOCATION: Königstraße 2\, \, Brakel\, Westfalen
DTSTAMP:20260424T114027
SUMMARY:Ww-Terminator: Stolpersteine für Brakel - Brakel, Westfalen
URL;VALUE=URI:https://www.wildwechsel.de/wildwechsel-terminator/event/stolpersteine-fuer-brakel-koenigstrasse-2-brakel-westfalen-267256/
CLASS:PUBLIC
DESCRIPTION:Stolpersteine für Brakel: Verlegung am 8. Mai 2026

Am 8. Mai 2026 findet in Brakel die Verlegung neuer Stolpersteine statt. Treffpunkt ist um 11:00 Uhr in der Königstraße 2, von wo aus die Aktion auch den Standort Ennebudiek 3 einbezieht.

Erinnerung im öffentlichen Raum

Die Stolpersteine stehen für das Gedenken an Menschen aus der unmittelbaren Nachbarschaft, die während der Zeit des Nationalsozialismus verfolgt und ermordet wurden. Jeder einzelne Stein ist einem Namen gewidmet und macht persönliche Schicksale im Stadtbild sichtbar. Die Initiative schafft einen bewussten Moment des Innehaltens und trägt dazu bei, Erinnerung wachzuhalten.

Gestaltet von Schülerinnen und Schülern

Die Umsetzung der Verlegung erfolgt unter Mitwirkung von Schülerinnen und Schülern der Gesamtschule. Damit verbindet die Veranstaltung historisches Gedenken mit aktiver Bildungsarbeit und lokalem Engagement.

Gemeinsames Zeichen für Erinnerungskultur

Die Verlegung ist öffentlich zugänglich und richtet sich an alle Interessierten. Die Teilnahme bietet die Möglichkeit, ein Zeichen für Mitmenschlichkeit und eine lebendige Erinnerungskultur in Brakel zu setzen.
UID:20260424T114027-20260508T110000-20260508T150000
END:VEVENT
END:VCALENDAR