BEGIN:VCALENDAR
VERSION:2.0
PRODID:-//wildwechsel//wildwechsel.de//DE
METHOD:PUBLISH
CALSCALE:GREGORIAN
BEGIN:VEVENT
DTSTART:20260424T190000
DTEND:20260424T230000
LOCATION:Hof Hartmann\, \, Brakel\, Westfalen
DTSTAMP:20260422T153426
SUMMARY:Ww-Terminator: Sternstunden - Stammtisch - Brakel, Westfalen
URL;VALUE=URI:https://www.wildwechsel.de/wildwechsel-terminator/event/sternstunden-stammtisch-hof-hartmann-brakel-westfalen-267334/
CLASS:PUBLIC
DESCRIPTION:Sternstunden – Stammtisch in Brakel-Hampenhausen

Der Stammtisch „Sternstunden“ lädt am 24. April 2026 zu einem offenen Treffen auf dem Hof Hartmann in Brakel-Hampenhausen ein. Beginn ist um 19 Uhr.

Offenes Treffen für Austausch und Begegnung

Das Format richtet sich an alle Interessierten und bietet insbesondere Menschen ohne feste Begleitung eine unkomplizierte Möglichkeit zum Kennenlernen und Austausch. In entspannter Atmosphäre steht das gemeinsame Gespräch im Mittelpunkt.

Kostenfreie Teilnahme mit Anmeldung

Die Teilnahme ist kostenfrei. Für die Organisation wird um eine vorherige Anmeldung per E-Mail gebeten.
UID:20260422T153426-20260424T190000-20260424T230000
END:VEVENT
END:VCALENDAR