BEGIN:VCALENDAR
VERSION:2.0
PRODID:-//wildwechsel//wildwechsel.de//DE
METHOD:PUBLISH
CALSCALE:GREGORIAN
BEGIN:VEVENT
DTSTART:20260422T160000
DTEND:20260422T200000
LOCATION:Foyer Interim des Staatstheaters Kassel \, \, Kassel
DTSTAMP:20260422T151243
SUMMARY:Ww-Terminator: SPIELPLAN.RELEASE 2026/27 und After-Work-Party - Kassel
URL;VALUE=URI:https://www.wildwechsel.de/wildwechsel-terminator/event/spielplanrelease-2026-27-und-after-work-party-foyer-interim-des-staatstheaters-kassel-kassel-267335/
CLASS:PUBLIC
DESCRIPTION:Das Staatstheater Kassel präsentiert seine neue Saison und feiert im INTERIM: DJs, Führungen, Get-together!

 

Am 22. April präsentiert das Staatstheater Kassel den Spielplan 2026/27. Um 16 Uhr laden wir alle Interessierten herzlich zur öffentlichen Pressekonferenz ein.

 

Im Anschluss an die Pressekonferenz freuen wir uns mit allen ab 18 Uhr im INTERIM unsere erste After-Work-Party zum Spielplan-Release gemeinsam begehen zu können. Lernen Sie die kommende Spielzeit kennen, holen Sie sich das neue Spielzeitheft und genießen Sie in entspannter Atmosphäre die Musik von DJs und Angeboten unseres Theatercaterers Grischäfer.

 

Darüber hinaus haben Sie die Möglichkeit bei Führungen Einblicke in die neue Spielstätte zu erhalten. Feiern Sie gemeinsam mit uns die kommende Spielzeit 2026/27!

 

 

Öffentliche Pressekonferenz: 16 Uhr

 

Künstlerische Beiträge der Sparten: 17:15 Uhr 

 

Führungen durchs INTERIM: 18-21 Uhr 
Die Führungen sind kostenlos. Es wird eine Eintrittskarte benötigt, diese sind an der Kasse im INTERIM an dem Tag ab 17:30 Uhr zu erhalten.

 

After-Work-Party: ab 18 Uhr 

 

 

Während dieser Veranstaltung werden Foto- und Videoaufnahmen gemacht. Mit dem Besuch der Veranstaltung erklären Sie sich mit der möglichen Verwendung dieser Aufnahmen im Rahmen der Öffentlichkeitsarbeit des Staatstheaters Kassel einverstanden.
UID:20260422T151243-20260422T160000-20260422T200000
END:VEVENT
END:VCALENDAR