BEGIN:VCALENDAR
VERSION:2.0
PRODID:-//wildwechsel//wildwechsel.de//DE
METHOD:PUBLISH
CALSCALE:GREGORIAN
BEGIN:VEVENT
DTSTART:20260426T140000
DTEND:20260426T180000
LOCATION:Spargelwanderung Bürstadt - Heimatrock\, \, Bürstadt
DTSTAMP:20260422T201637
SUMMARY:Ww-Terminator: Southern Roxx - Southern & Classic Rock mit Druck, Groove & Seele - Southern Roxx - Bürstadt
URL;VALUE=URI:https://www.wildwechsel.de/wildwechsel-terminator/event/southern-roxx-southern-classic-rock-mit-druck-groove-seele-southern-roxx-spargelwanderung-buerstadt-heimatrock-buerstadt-267138/
CLASS:PUBLIC
DESCRIPTION:Heimatrock präsentiert: Southern Roxx (14 - 15 Uhr)
Live. Ehrlich. Southern Roxx.

Am Sonntag, den 26. April, spielen Southern Roxx ein exklusives Set im Rahmen der Spargelwanderung bei der Gärtnerei Molcz - als Vorgeschmack auf das Konzert am 08.05. im Ratskeller Bürstadt.

14:00 - 15:00 Uhr

Southern Roxx stehen für handgemachten Rock mit viel Herzblut und echter Spielfreude - direkt und ohne Schnörkel.

Kommt vorbei, hört rein und bekommt einen ersten Eindruck für den 08.05.

Wo: Gärtnerei Molcz (Spargelwanderung Bürstadt / Lampertheim)
- In Kooperation mit dem Ratskeller
- Präsentiert von Heimatrock
UID:20260422T201637-20260426T140000-20260426T180000
END:VEVENT
END:VCALENDAR