BEGIN:VCALENDAR
VERSION:2.0
PRODID:-//wildwechsel//wildwechsel.de//DE
METHOD:PUBLISH
CALSCALE:GREGORIAN
BEGIN:VEVENT
DTSTART:19700101T010000
DTEND:19700101T010000
LOCATION:Festplatz Vellmar\, \, Vellmar
DTSTAMP:20260424T164244
SUMMARY:Ww-Terminator: Sommer im Park 2026 - Wehlheider Hoftheater  - Vellmar
URL;VALUE=URI:https://www.wildwechsel.de/wildwechsel-terminator/event/sommer-im-park-2026-wehlheider-hoftheater-festplatz-vellmar-vellmar-267475/
CLASS:PUBLIC
DESCRIPTION:Seniorenveranstaltung mit dem Wehlheider Hoftheater

Im Rahmen des Zeltfestival Sommer im Park bereichert eine Seniorenveranstaltung mit dem Wehlheider Hoftheater das Programm. Die traditionsreiche Bühne steht für unterhaltsames, nahbares Theater und bringt ihre langjährige Erfahrung in einer speziell zugeschnittenen Aufführung ein.

Theatergenuss in angenehmer Atmosphäre

Die Veranstaltung richtet sich gezielt an ein älteres Publikum und bietet einen entspannten Zugang zu kulturellem Erleben. Mit einem ausgewogenen Mix aus Humor, erzählerischer Leichtigkeit und lebendiger Darstellung entsteht ein kurzweiliger Nachmittag beziehungsweise Abend, der sowohl unterhält als auch zum Schmunzeln einlädt.

Kulturelles Angebot mit regionalem Bezug

Das Wehlheider Hoftheater ist bekannt für seine abwechslungsreichen Produktionen und die Nähe zum Publikum. Auch bei dieser Veranstaltung steht die Verbindung aus regionalem Charme und qualitativ hochwertigem Schauspiel im Mittelpunkt. Ein Programmpunkt, der das Festival um eine generationenübergreifende Facette erweitert und kulturelle Vielfalt erlebbar macht.
UID:20260424T164244-19700101T010000-19700101T010000
END:VEVENT
END:VCALENDAR