BEGIN:VCALENDAR
VERSION:2.0
PRODID:-//wildwechsel//wildwechsel.de//DE
METHOD:PUBLISH
CALSCALE:GREGORIAN
BEGIN:VEVENT
DTSTART:19700101T010000
DTEND:19700101T010000
LOCATION:Festplatz Vellmar\, \, Vellmar
DTSTAMP:20260424T164003
SUMMARY:Ww-Terminator: Sommer im Park 2026 - Tic - Vellmar
URL;VALUE=URI:https://www.wildwechsel.de/wildwechsel-terminator/event/sommer-im-park-2026-tic-festplatz-vellmar-vellmar-267482/
CLASS:PUBLIC
DESCRIPTION:Night of the 80s beim Zeltfestival Sommer im Park

Am Sonntag, 23. August 2026, lädt das tic – Theater im Centrum um 20.00 Uhr zur „Night of the 80s“ im Rahmen des Zeltfestival Sommer im Park ein. Die Produktion widmet sich einem der prägendsten Musikjahrzehnte und bringt dessen bekannteste Hits live auf die Bühne.

Zeitreise durch die größten Songs der 80er

Das Programm vereint ikonische Titel der 1980er Jahre und spannt einen Bogen von eingängigen Pop-Hymnen bis hin zu kraftvollen Rockballaden. Songs von Künstlern wie Foreigner, Bon Jovi oder Genesis stehen ebenso im Fokus wie bekannte Filmmusik und Klassiker im Stil der Blues Brothers. Der Abend verbindet unterschiedliche Facetten des Jahrzehnts zu einem abwechslungsreichen musikalischen Gesamtbild.

Live-Performance mit starker Besetzung

Durch den Abend führen Annabelle Nebe, Jessica Krüger, Sascha Lenz beziehungsweise Harald Tauber sowie Michael Chadim. Die Künstlerinnen und Künstler interpretieren die Songs mit viel Bühnenpräsenz und musikalischer Präzision. Die Konzeption liegt in den Händen von Annabelle Nebe und Fabian Joel Walter.

Ein Abend im Zeichen eines Kultjahrzehnts

Die „Night of the 80s“ bietet einen kompakten Überblick über die musikalische Vielfalt der 1980er Jahre. Mit bekannten Melodien, eingängigen Refrains und energiegeladenen Arrangements entsteht ein Konzertabend, der die charakteristische Klangwelt dieses Jahrzehnts eindrucksvoll aufgreift.
UID:20260424T164003-19700101T010000-19700101T010000
END:VEVENT
END:VCALENDAR