BEGIN:VCALENDAR
VERSION:2.0
PRODID:-//wildwechsel//wildwechsel.de//DE
METHOD:PUBLISH
CALSCALE:GREGORIAN
BEGIN:VEVENT
DTSTART:19700101T010000
DTEND:19700101T010000
LOCATION:Festplatz Vellmar\, \, Vellmar
DTSTAMP:20260424T164157
SUMMARY:Ww-Terminator: Sommer im Park 2026 - Suzanne von Borsody - Vellmar
URL;VALUE=URI:https://www.wildwechsel.de/wildwechsel-terminator/event/sommer-im-park-2026-suzanne-von-borsody-festplatz-vellmar-vellmar-267479/
CLASS:PUBLIC
DESCRIPTION:Suzanne von Borsody interpretiert Frida Kahlo beim Zeltfestival Sommer im Park

Am Dienstag, 18. August 2026, präsentiert Suzanne von Borsody um 20.00 Uhr ein musikalisch-literarisches Programm im Rahmen des Zeltfestival Sommer im Park. Gemeinsam mit dem Ensemble AZUL widmet sie sich dem Leben und Werk der mexikanischen Künstlerin Frida Kahlo.

Einblick in das Innenleben einer Ausnahmekünstlerin

Im Zentrum des Abends stehen persönliche Texte Kahlos – Briefe, Gedichte und Tagebucheinträge, die einen direkten Zugang zu ihrer Gedankenwelt eröffnen. Die Auswahl zeichnet ein vielschichtiges Bild, das sowohl von Lebensfreude und Humor als auch von inneren Konflikten geprägt ist.

Musik und Sprache im intensiven Zusammenspiel

Die Interpretation von Suzanne von Borsody verbindet sich mit den Klangwelten des Ensemble AZUL zu einer dichten Atmosphäre. Sprache und Musik greifen ineinander und schaffen ein eindringliches Porträt, das die Ausdruckskraft und Radikalität von Frida Kahlos Stimme in den Mittelpunkt stellt.

Ein außergewöhnlicher Theaterabend

Das Programm zeichnet sich durch seine klare Fokussierung auf die Perspektive der Künstlerin aus. Die Kombination aus literarischer Lesung und musikalischer Begleitung eröffnet einen besonderen Zugang zu einem bewegten Leben und macht den Abend zu einem eindrucksvollen Bestandteil des Festivalprogramms.
UID:20260424T164157-19700101T010000-19700101T010000
END:VEVENT
END:VCALENDAR