BEGIN:VCALENDAR
VERSION:2.0
PRODID:-//wildwechsel//wildwechsel.de//DE
METHOD:PUBLISH
CALSCALE:GREGORIAN
BEGIN:VEVENT
DTSTART:19700101T010000
DTEND:19700101T010000
LOCATION:Festplatz Vellmar\, \, Vellmar
DTSTAMP:20260424T164030
SUMMARY:Ww-Terminator: Sommer im Park 2026 - Söhne Mannheims - Vellmar
URL;VALUE=URI:https://www.wildwechsel.de/wildwechsel-terminator/event/sommer-im-park-2026-soehne-mannheims-festplatz-vellmar-vellmar-267477/
CLASS:PUBLIC
DESCRIPTION:Söhne Mannheims Piano beim Zeltfestival Sommer im Park

Am Sonntag, 16. August 2026, präsentiert das Kollektiv Söhne Mannheims um 20.00 Uhr ein besonderes Konzerterlebnis im Rahmen des Zeltfestival Sommer im Park. Das Piano-Programm setzt bekannte Songs der Band in einem neuen, reduzierten Klanggewand in Szene.

Bekannte Songs in neuem Arrangement

Im Mittelpunkt des Abends stehen neu interpretierte Versionen zahlreicher Klassiker aus über drei Jahrzehnten Bandgeschichte. Titel wie „Und wenn ein Lied“ oder „Das hat die Welt noch nicht gesehen“ erscheinen in ruhigen Piano-Arrangements, ergänzt durch neuere Stücke wie „Fragmente“ oder „Heimweg“. Die reduzierten Kompositionen eröffnen einen anderen Zugang zu den Songs und legen den Fokus auf Melodie, Text und mehrstimmigen Gesang.

Musikalische Qualität und starke Stimmen

Für die musikalische Leitung zeichnet Pianist Florian Sitzmann verantwortlich, der mit seinem differenzierten Klavierspiel den charakteristischen Sound prägt. Unterstützt wird er von den Sängern Dominic Sanz, Giuseppe Porrello, Karim Amun und Michael Klimas sowie Rapper Metaphysics. Gemeinsam entsteht ein vielschichtiges Klangbild aus fein abgestimmten Stimmen und virtuosen Piano-Linien.

Intensives Konzerterlebnis in besonderer Atmosphäre

Das Zusammenspiel aus reduzierter Instrumentierung und stimmlicher Ausdruckskraft sorgt für eine dichte, emotionale Konzertatmosphäre. Die Nähe zur Musik und die Klarheit der Arrangements rücken die Songs in den Mittelpunkt und machen den Abend zu einem eindrucksvollen Bestandteil des Festivalprogramms.
UID:20260424T164030-19700101T010000-19700101T010000
END:VEVENT
END:VCALENDAR