BEGIN:VCALENDAR
VERSION:2.0
PRODID:-//wildwechsel//wildwechsel.de//DE
METHOD:PUBLISH
CALSCALE:GREGORIAN
BEGIN:VEVENT
DTSTART:19700101T010000
DTEND:19700101T010000
LOCATION:Festplatz Vellmar\, \, Vellmar
DTSTAMP:20260424T164345
SUMMARY:Ww-Terminator: Sommer im Park 2026 - Seniorenveranstaltung - Vellmar
URL;VALUE=URI:https://www.wildwechsel.de/wildwechsel-terminator/event/sommer-im-park-2026-seniorenveranstaltung-festplatz-vellmar-vellmar-267481/
CLASS:PUBLIC
DESCRIPTION:Seniorenveranstaltung in Vellmar beim Zeltfestival Sommer im Park

Im Rahmen des Zeltfestival Sommer im Park ergänzt eine Seniorenveranstaltung in Vellmar das vielfältige Programm um ein speziell ausgerichtetes Kulturangebot. Die Veranstaltung richtet sich gezielt an ein älteres Publikum und schafft einen angenehmen Rahmen für gemeinsames Erleben.

Kulturelles Angebot mit besonderem Fokus

Im Mittelpunkt steht ein unterhaltsames Programm, das auf die Interessen und Erwartungen der Zielgruppe abgestimmt ist. Ob Theater, Musik oder leichte Unterhaltung – die Inhalte zeichnen sich durch Zugänglichkeit, Qualität und eine entspannte Atmosphäre aus.

Begegnung und gemeinsames Erlebnis

Neben dem kulturellen Aspekt bietet die Veranstaltung Raum für Austausch und geselliges Miteinander. In ruhigem Ambiente entsteht ein Rahmen, der sowohl Unterhaltung als auch Begegnung ermöglicht und das Festivalprogramm um eine generationenspezifische Facette erweitert.
UID:20260424T164345-19700101T010000-19700101T010000
END:VEVENT
END:VCALENDAR