BEGIN:VCALENDAR
VERSION:2.0
PRODID:-//wildwechsel//wildwechsel.de//DE
METHOD:PUBLISH
CALSCALE:GREGORIAN
BEGIN:VEVENT
DTSTART:19700101T010000
DTEND:19700101T010000
LOCATION:Festplatz Vellmar\, \, Vellmar
DTSTAMP:20260424T164128
SUMMARY:Ww-Terminator: Sommer im Park 2026 - Night Wash - Vellmar
URL;VALUE=URI:https://www.wildwechsel.de/wildwechsel-terminator/event/sommer-im-park-2026-night-wash-festplatz-vellmar-vellmar-267476/
CLASS:PUBLIC
DESCRIPTION:NightWash Live beim Zeltfestival Sommer im Park

Am Samstag, 15. August 2026, gastiert die erfolgreiche Comedy-Show NightWash um 20.00 Uhr im Rahmen des Zeltfestival Sommer im Park. Das Format gilt seit Jahren als feste Größe der deutschsprachigen Stand-up-Szene und steht für abwechslungsreiche Live-Unterhaltung auf hohem Niveau.

Erfolgsformat der deutschen Comedy-Szene

Mit zahlreichen Live-Shows jährlich sowie einer enormen Reichweite im digitalen Raum hat sich NightWash als eine der bekanntesten Plattformen für Stand-up Comedy etabliert. Das Konzept vereint etablierte Comedians und vielversprechende Nachwuchstalente, die im Rahmen des eigenen Talent Awards gefördert und einem breiten Publikum präsentiert werden. Auch bekannte Namen wie Felix Lobrecht, Carolin Kebekus, Chris Tall und Faisal Kawusi sammelten hier wichtige Bühnenerfahrungen.

Abwechslungsreiche Show mit Überraschungsmomenten

NightWash steht für eine dynamische Mischung aus frischer Stand-up Comedy, spontanen Einlagen und wechselnden Künstlerinnen und Künstlern. Jede Ausgabe bringt neue Gesichter auf die Bühne und sorgt mit unterschiedlichen Stilen und Perspektiven für ein vielseitiges Programm.

Ein Live-Erlebnis mit besonderer Atmosphäre

Die Stärke des Formats liegt im direkten Austausch mit dem Publikum und der Energie des Live-Moments. Jede Show entwickelt ihren eigenen Charakter und bleibt dadurch einzigartig. Das Zusammenspiel aus Humor, Spontaneität und Bühnenpräsenz macht NightWash zu einem festen Bestandteil moderner Comedy-Kultur.
UID:20260424T164128-19700101T010000-19700101T010000
END:VEVENT
END:VCALENDAR