BEGIN:VCALENDAR
VERSION:2.0
PRODID:-//wildwechsel//wildwechsel.de//DE
METHOD:PUBLISH
CALSCALE:GREGORIAN
BEGIN:VEVENT
DTSTART:19700101T010000
DTEND:19700101T010000
LOCATION:Festplatz Vellmar\, \, Vellmar
DTSTAMP:20260424T164238
SUMMARY:Ww-Terminator: Sommer im Park 2026 - Miss Allie  - Vellmar
URL;VALUE=URI:https://www.wildwechsel.de/wildwechsel-terminator/event/sommer-im-park-2026-miss-allie-festplatz-vellmar-vellmar-267480/
CLASS:PUBLIC
DESCRIPTION:Miss Allie live beim Zeltfestival Sommer im Park

Am Mittwoch, 19. August 2026, steht Miss Allie um 20.00 Uhr im Rahmen des Zeltfestival Sommer im Park auf der Bühne. Mit ihrem aktuellen Programm zur Tour „Paradiesvogel“ bringt sie ihr viertes Album live nach Vellmar.

Zwischen Liedermaching, Humor und Haltung

Miss Allie zählt zu den markanten Stimmen der deutschsprachigen Singer-Songwriter-Szene. Ihre Konzerte verbinden modernes Liedermaching mit pointiertem Humor und gesellschaftlicher Beobachtung. Die Künstlerin bewegt sich dabei mühelos zwischen musikalischer Leichtigkeit und inhaltlicher Tiefe, ohne an Unterhaltungswert einzubüßen.

Spontaneität und Nähe zum Publikum

Ein zentrales Element ihrer Auftritte ist die direkte Interaktion mit dem Publikum. Spontane Dialoge, persönliche Anekdoten und schlagfertige Kommentare sind fester Bestandteil ihrer Shows. Die Songs werden so in lebendige Geschichten eingebettet, die den Abend abwechslungsreich und dynamisch gestalten.

Etablierte Größe mit vielseitiger Präsenz

Neben ihrer musikalischen Arbeit ist Miss Allie auch in verschiedenen Comedy-Formaten präsent und stand unter anderem gemeinsam mit Carolin Kebekus auf der Bühne. Unterstützung aus der Medienlandschaft, etwa durch Olli Schulz, unterstreicht ihre wachsende Bekanntheit. Zahlreiche Auszeichnungen sowie Auftritte in TV, Radio und Talkshows festigen ihre Position als vielseitige Entertainerin.
UID:20260424T164238-19700101T010000-19700101T010000
END:VEVENT
END:VCALENDAR