BEGIN:VCALENDAR
VERSION:2.0
PRODID:-//wildwechsel//wildwechsel.de//DE
METHOD:PUBLISH
CALSCALE:GREGORIAN
BEGIN:VEVENT
DTSTART:19700101T010000
DTEND:19700101T010000
LOCATION:Festplatz Vellmar\, \, Vellmar
DTSTAMP:20260424T164024
SUMMARY:Ww-Terminator: Sommer im Park 2026 - MiA - Vellmar
URL;VALUE=URI:https://www.wildwechsel.de/wildwechsel-terminator/event/sommer-im-park-2026-mia-festplatz-vellmar-vellmar-267478/
CLASS:PUBLIC
DESCRIPTION:MiA. live 2026 beim Zeltfestival Sommer im Park

Am Montag, 17. August 2026, steht die Berliner Band MiA. um 20.00 Uhr im Rahmen des Zeltfestival Sommer im Park auf der Bühne. Mit ihrer „MiA. Live 2026“-Tour knüpft die Gruppe an ihre langjährige Erfolgsgeschichte an und präsentiert ein Programm, das Vergangenheit und Gegenwart miteinander verbindet.

Zwischen Bandgeschichte und neuen Impulsen

Im Zentrum des aktuellen Live-Konzepts steht die Verbindung aus bekannten Songs der Band und neuem Material. Gleichzeitig fließen Stücke aus dem Soloalbum „Dafür oder Dagegen“ von Frontfrau Mieze Katz in das Set ein. Was bereits auf der „Hellsehen“-Tour als spannende Mischung begann, entwickelt sich nun zu einem erweiterten Programm, das unterschiedliche kreative Phasen zusammenführt.

Energiegeladenes Live-Erlebnis mit Wiedererkennungswert

Seit über zwei Jahrzehnten überzeugt MiA. mit einer unverwechselbaren Bühnenpräsenz und großer stilistischer Offenheit. Ob Clubkonzert oder Festivalbühne – die Band steht für intensive Live-Momente, geprägt von Dynamik, Emotionalität und einem charakteristischen Zusammenspiel aus Pop, Elektro und Indie-Elementen.

Mit Songs wie „Tanz der Moleküle“, „Fallschirm“, „Hungriges Herz“ oder „Kopfüber“ hat sich MiA. fest in der deutschsprachigen Musiklandschaft etabliert. Gleichzeitig richtet sich der Blick nach vorn: Neue Stücke erweitern das Repertoire und zeigen die kontinuierliche Entwicklung der Band. Ein Konzertabend, der sowohl vertraute Klänge als auch frische Impulse vereint.
UID:20260424T164024-19700101T010000-19700101T010000
END:VEVENT
END:VCALENDAR