BEGIN:VCALENDAR
VERSION:2.0
PRODID:-//wildwechsel//wildwechsel.de//DE
METHOD:PUBLISH
CALSCALE:GREGORIAN
BEGIN:VEVENT
DTSTART:20260814T200000
DTEND:20260815T000000
LOCATION:Festplatz Vellmar\, \, Vellmar
DTSTAMP:20260424T164116
SUMMARY:Ww-Terminator: Sommer im Park 2026 - Jochen Malmsheimer - Vellmar
URL;VALUE=URI:https://www.wildwechsel.de/wildwechsel-terminator/event/sommer-im-park-2026-jochen-malmsheimer-festplatz-vellmar-vellmar-267474/
CLASS:PUBLIC
DESCRIPTION:Jochen Malmsheimer mit neuem Programm beim Zeltfestival Sommer im Park

Am Freitag, 14. August 2026, steht Jochen Malmsheimer um 20.00 Uhr im Rahmen des Zeltfestival Sommer im Park auf der Bühne. Mit seinem aktuellen Programm präsentiert der wortgewaltige Kabarettist einen ebenso skurrilen wie gedankenscharfen Abend.

Zwischen Sprachwitz und gedanklichen Abschweifungen

Ausgangspunkt des Programms ist ein augenzwinkernder Verweis auf historische und philosophische Figuren, deren vermeintliche Verbindungen sich bei näherer Betrachtung als herrlich absurde Gedankenspiele entpuppen. Malmsheimer entfaltet daraus eine Kette aus Assoziationen, die bewusst mit Erwartungen spielt und dabei immer wieder überraschende Richtungen einschlägt.

Inhaltlich bewegt sich das Programm fernab klassischer Erzählstrukturen. Stattdessen stehen eigenwillige Beobachtungen und pointierte Reflexionen im Mittelpunkt. Themen wie die Tücken des Radfahrens, die Besonderheit von Kunst oder deren geheimnisvolle Verbindung zum Mond werden mit großer sprachlicher Präzision und Nachdruck behandelt.

Ein Abend voller sprachlicher Raffinesse

Typisch für Jochen Malmsheimer ist die Verbindung aus feinsinnigem Humor, komplexen Gedankengängen und einer unverwechselbaren Vortragsweise. Sein Programm lebt von der Lust an der Sprache, der Freude am gedanklichen Umweg und einer konsequent durchgehaltenen Eigenwilligkeit.

Was letztlich bleibt, ist ein Abend, der sich bewusst eindeutigen Antworten entzieht und stattdessen den Raum für Interpretation offenlässt – ganz im Sinne der leisen Erkenntnis, dass die entscheidenden Wahrheiten oft im Verborgenen liegen.
UID:20260424T164116-20260814T200000-20260815T000000
END:VEVENT
END:VCALENDAR