BEGIN:VCALENDAR
VERSION:2.0
PRODID:-//wildwechsel//wildwechsel.de//DE
METHOD:PUBLISH
CALSCALE:GREGORIAN
BEGIN:VEVENT
DTSTART:20270227T200000
DTEND:20270228T000000
LOCATION:Stadthalle Kassel / Kongress Palais Kassel\, \, Kassel
DTSTAMP:20260419T025245
SUMMARY:Ww-Terminator: Solo - Beth Hart - Kassel
URL;VALUE=URI:https://www.wildwechsel.de/wildwechsel-terminator/event/solo-beth-hart-stadthalle-kassel-kongress-palais-kassel-kassel-267021/
CLASS:PUBLIC
DESCRIPTION:Sa 27.Feb 2027 um 20:00 im Stadthalle Kassel / Kongress Palais Kassel
UID:20260419T025245-20270227T200000-20270228T000000
END:VEVENT
END:VCALENDAR