BEGIN:VCALENDAR
VERSION:2.0
PRODID:-//wildwechsel//wildwechsel.de//DE
METHOD:PUBLISH
CALSCALE:GREGORIAN
BEGIN:VEVENT
DTSTART:20260425T184500
DTEND:20260425T224500
LOCATION:Kaiser-Friedrich-Gedächtniskirche\, \, Berlin
DTSTAMP:20260419T160500
SUMMARY:Ww-Terminator: Sober Rave Kassel - Svenski - Berlin
URL;VALUE=URI:https://www.wildwechsel.de/wildwechsel-terminator/event/sober-rave-kassel-svenski-kaiser-friedrich-gedaechtniskirche-berlin-266896/
CLASS:PUBLIC
DESCRIPTION:Substanzfreie Technopartys

Hey ihr Lieben.✨

Ich freue mich sehr euch das Datum für meinen 1.Sober Rave in Kassel mitzuteilen.
Es wird der 25.04.2026� sein.
DJ Svenski aus Frankfurt wird für uns auflegen.
Er ist langjähriger Techno-DJ aus Frankfurt und nimmt euch mit auf eine hypnotische Reise durch Minimal Techno, Psytechno und treibende Peak-Time-Sounds.?

●19:00-22Uhr
Ab 18:45 Einlass jederzeit möglich
Kulturfärberei Kassel
Universitätsplatz 10
34127 Kassel
●Eintritt auf Spendenbasis vor Ort (in bar bevorzugt ,ansonsten Paypal Freunde möglich)
●Kein Alkohol, kein Rauchen,keine anderen Drogen
●Alkoholfreie Getränke können seitens der Kulturfärberei erworben werden bei Bedarf
●Keine Altersbeschränkung

Es geht bei diesem Event um Tanzen zu Technomusik in einem geschützten Raum.
Dies ist eine Einladung für eine neue Partykultur in Achtsamkeit und mit Raum für bewusste Begegnung. ?

https://t.me/soberravekassel

https://m.soundcloud.com/svenski133

Bis ganz bald auf der Tanzfläche. ♡

Liebe Grüße Lou
UID:20260419T160500-20260425T184500-20260425T224500
END:VEVENT
END:VCALENDAR