BEGIN:VCALENDAR
VERSION:2.0
PRODID:-//wildwechsel//wildwechsel.de//DE
METHOD:PUBLISH
CALSCALE:GREGORIAN
BEGIN:VEVENT
DTSTART:20260506T143000
DTEND:20260506T183000
LOCATION:Kawaii Restaurant\, \, Paderborn
DTSTAMP:20260423T035604
SUMMARY:Ww-Terminator: Singer-Songwriter live im KAWAII - Tobi & Claire - Paderborn
URL;VALUE=URI:https://www.wildwechsel.de/wildwechsel-terminator/event/singer-songwriter-live-im-kawaii-tobi-claire-kawaii-restaurant-paderborn-267267/
CLASS:PUBLIC
DESCRIPTION:Tobi & Claire - Singer-Songwriter live im KAWAII
? 6. Mai ' ⏰ 15:00-17:00 Uhr ' ? KAWAII, Modehaus Klingenthal, 2. OG
Unterschiedlicher könnten sie kaum sein - und genau das macht ihren gemeinsamen Sound aus: Tobi & Claire, Singer-Songwriter-Duo aus Paderborn, eröffnen den Mai im KAWAII. Ihre eigenen Songs erzählen von Neuanfängen, Mut und den Momenten, die das Leben schreibt - ergänzt durch ausgewählte Covers. Ein persönlicher, nahbarer Konzertnachmittag. Präsentiert in Zusammenarbeit mit Tonika e.V.
Eintritt frei, Reservierung empfohlen.
Präsentiert in Zusammenarbeit mit Tonika e.V.
Eintritt frei, Reservierung empfohlen
UID:20260423T035604-20260506T143000-20260506T183000
END:VEVENT
END:VCALENDAR