BEGIN:VCALENDAR
VERSION:2.0
PRODID:-//wildwechsel//wildwechsel.de//DE
METHOD:PUBLISH
CALSCALE:GREGORIAN
BEGIN:VEVENT
DTSTART:19700101T010000
DTEND:19700101T010000
LOCATION:Hof Hartmann\, \, Brakel\, Westfalen
DTSTAMP:20260423T183251
SUMMARY:Ww-Terminator: Selbsthilfegruppe Angst & Panik - Brakel, Westfalen
URL;VALUE=URI:https://www.wildwechsel.de/%20wildwechsel-terminator/event/selbsthilfegruppe-angst-panik-hof-hartmann-brakel-westfalen-267255/
CLASS:PUBLIC
DESCRIPTION:Selbsthilfegruppe Angst & Panik in Brakel-Hampenhausen

Am 1. Juli 2026 findet das nächste Treffen der Selbsthilfegruppe Angst & Panik auf dem Hof Hartmann in Brakel-Hampenhausen statt. Beginn ist um 19:00 Uhr.

Regelmäßiger Austausch in geschütztem Rahmen

Die Gruppe kommt an jedem ersten Mittwoch im Monat zusammen und bietet einen festen Termin für Menschen, die sich mit den Themen Angst und Panik auseinandersetzen. Im Mittelpunkt steht der gemeinsame Austausch in vertrauensvoller Atmosphäre.

Treffpunkt Hof Hartmann

Veranstaltungsort ist der Hof Hartmann in der Parkstraße 7 in 33034 Brakel-Hampenhausen. Für weitere Informationen sowie zur Anmeldung steht Ina Hartmann per E-Mail unter [ina-hartmann@t-online.de](mailto:ina-hartmann@t-online.de) zur Verfügung.
UID:20260423T183251-19700101T010000-19700101T010000
END:VEVENT
END:VCALENDAR