BEGIN:VCALENDAR
VERSION:2.0
PRODID:-//wildwechsel//wildwechsel.de//DE
METHOD:PUBLISH
CALSCALE:GREGORIAN
BEGIN:VEVENT
DTSTART:19700101T010000
DTEND:19700101T010000
LOCATION:Bürgerhalle Istrup\, \, Brakel-Istrup
DTSTAMP:20260420T214824
SUMMARY:Ww-Terminator: Schützenfest in Istrup - Brakel-Istrup
URL;VALUE=URI:https://www.wildwechsel.de/wildwechsel-terminator/event/schuetzenfest-in-istrup-buergerhalle-istrup-brakel-istrup-267228/
CLASS:PUBLIC
DESCRIPTION:Schützenfest Istrup 2026: Abschluss am 1. Juni

Am Montag, 1. Juni 2026, endet das Schützenfest der Schützenbruderschaft St. Bartholomäus Istrup mit einem traditionellen Abschlusstag. Nach zwei festlichen Tagen bildet dieser Termin den feierlichen Ausklang des Festwochenendes rund um die Bürgerhalle.

Finale im Zeichen des Brauchtums

Der letzte Tag greift noch einmal die zentralen Elemente des Schützenwesens auf und führt die Feierlichkeiten in würdigem Rahmen zu Ende. Vereinsmitglieder, Gäste und Dorfgemeinschaft kommen ein letztes Mal zusammen, um die gemeinsamen Tage ausklingen zu lassen.

Gemeinschaftlicher Abschluss

Der 1. Juni steht für geselliges Beisammensein und den Rückblick auf ein ereignisreiches Fest. Die besondere Atmosphäre des Schützenfestes bleibt bis zum Schluss spürbar und unterstreicht die Bedeutung dieser Tradition für den Ort.

Veranstaltungsort ist die Bürgerhalle in Brakel-Istrup. Weitere Details zum Tagesprogramm werden im Vorfeld ergänzt.
UID:20260420T214824-19700101T010000-19700101T010000
END:VEVENT
END:VCALENDAR