BEGIN:VCALENDAR
VERSION:2.0
PRODID:-//wildwechsel//wildwechsel.de//DE
METHOD:PUBLISH
CALSCALE:GREGORIAN
BEGIN:VEVENT
DTSTART:19700101T010000
DTEND:19700101T010000
LOCATION:Gemeindehalle Hembsen\, \, Brakel-Hembsen
DTSTAMP:20260424T114009
SUMMARY:Ww-Terminator: Schützenfest in Hembsen - Brakel-Hembsen
URL;VALUE=URI:https://www.wildwechsel.de/wildwechsel-terminator/event/schuetzenfest-in-hembsen-gemeindehalle-hembsen-brakel-hembsen-267247/
CLASS:PUBLIC
DESCRIPTION:Schützenfest in Hembsen 2026: Auftakt am 20. Juni

Am 20. Juni 2026 beginnt in Brakel-Hembsen das Schützenfest der St. Johannes Schützengesellschaft Hembsen. Der erste Veranstaltungstag markiert den offiziellen Start der Festtage, die bis zum 22. Juni in der Gemeindehalle an der Landwehrstraße stattfinden.

Feierlicher Beginn in der Gemeindehalle

Der Auftakt steht traditionell im Zeichen der Einstimmung auf das Festwochenende. Auch wenn das konkrete Programm noch nicht veröffentlicht ist, bildet der erste Abend erfahrungsgemäß den Rahmen für zentrale Zeremonien und erste gesellige Programmpunkte. Die Gemeindehalle wird dabei zum zentralen Treffpunkt für Schützen, Gäste und Besucher aus der Region.

Stimmungsvoller Start ins Festwochenende

Der 20. Juni legt die Grundlage für die folgenden Tage und schafft eine lebendige Atmosphäre zum Einstieg in das Schützenfest. Gemeinschaft, Austausch und erste festliche Momente prägen den Beginn und machen den Auftakt zu einem wichtigen Bestandteil der gesamten Veranstaltung.
UID:20260424T114009-19700101T010000-19700101T010000
END:VEVENT
END:VCALENDAR