BEGIN:VCALENDAR
VERSION:2.0
PRODID:-//wildwechsel//wildwechsel.de//DE
METHOD:PUBLISH
CALSCALE:GREGORIAN
BEGIN:VEVENT
DTSTART:19700101T010000
DTEND:19700101T010000
LOCATION:Marktplatz Brakel\, \, Brakel\, Westfalen
DTSTAMP:20260421T155155
SUMMARY:Ww-Terminator: Schützenfest in Brakel - Brakel, Westfalen
URL;VALUE=URI:https://www.wildwechsel.de/wildwechsel-terminator/event/schuetzenfest-in-brakel-marktplatz-brakel-brakel-westfalen-267252/
CLASS:PUBLIC
DESCRIPTION:Schützenfest Brakel: Festtag am 26. Juni 2026

Am 26. Juni 2026 geht das Schützenfest in Brakel in die nächste Runde und führt die Feierlichkeiten nach dem feierlichen Auftakt am Vortag weiter.

Geselligkeit und gelebte Tradition

Der Freitag steht im Zeichen des gemeinschaftlichen Erlebens und der Pflege des Schützenbrauchtums. Nach dem offiziellen Start entfaltet das Fest seine besondere Atmosphäre und bietet Raum für Begegnungen, Austausch und festliche Stimmung innerhalb der Stadt.

Fortsetzung des Festprogramms

Auch wenn detaillierte Programmpunkte noch angekündigt werden, knüpft der zweite Veranstaltungstag an die traditionsreiche Ausrichtung des Schützenfestes an. Besucherinnen und Besucher erwartet ein abwechslungsreicher Festtag, der das Wochenende stimmungsvoll weiterführt.
UID:20260421T155155-19700101T010000-19700101T010000
END:VEVENT
END:VCALENDAR