BEGIN:VCALENDAR
VERSION:2.0
PRODID:-//wildwechsel//wildwechsel.de//DE
METHOD:PUBLISH
CALSCALE:GREGORIAN
BEGIN:VEVENT
DTSTART:19700101T010000
DTEND:19700101T010000
LOCATION:Festzelt Bökendorf\, \, Brakel-Bökendorf
DTSTAMP:20260424T131932
SUMMARY:Ww-Terminator: Schützenfest in Bökendorf - Brakel-Bökendorf
URL;VALUE=URI:https://www.wildwechsel.de/wildwechsel-terminator/event/schuetzenfest-in-boekendorf-festzelt-boekendorf-brakel-boekendorf-267236/
CLASS:PUBLIC
DESCRIPTION:Schützenfest in Bökendorf: Festtag am 4. Juni 2026

Am 4. Juni 2026 erreicht das Schützenfest in Bökendorf seinen zweiten Veranstaltungstag. Nach dem Auftakt am Vortag rückt nun das gemeinschaftliche Feiern stärker in den Mittelpunkt. Das Festzelt am Wullhof bleibt zentraler Schauplatz für die Programmpunkte des Tages.

Tradition und Gemeinschaft im Fokus

Auch ohne veröffentlichte Festfolge lässt sich der Ablauf des zweiten Tages gut einordnen. Traditionell prägen Festumzüge, Ansprachen und musikalische Beiträge das Geschehen. Solche Programmpunkte schaffen Raum für Begegnung und unterstreichen die enge Verbindung zwischen Schützenwesen und Dorfgemeinschaft. Ergänzt wird der Tag häufig durch Konzerte regionaler Musikvereine und gesellige Stunden im Festzelt.

Orientierung am Jubiläumsjahr

Ein Blick auf das Jahr 2025 zeigt typische Abläufe für den zweiten Festtag. Damals standen ein Festumzug sowie eine Parade vor dem Schloss Bökerhof im Mittelpunkt, begleitet von musikalischen Darbietungen und einem entspannten Ausklang im Festzelt. Diese Mischung aus Tradition und Unterhaltung dürfte auch den 4. Juni 2026 prägen und für eine lebendige Festatmosphäre sorgen.
UID:20260424T131932-19700101T010000-19700101T010000
END:VEVENT
END:VCALENDAR