BEGIN:VCALENDAR
VERSION:2.0
PRODID:-//wildwechsel//wildwechsel.de//DE
METHOD:PUBLISH
CALSCALE:GREGORIAN
BEGIN:VEVENT
DTSTART:19700101T010000
DTEND:19700101T010000
LOCATION:Meinolfushalle\, \, Bellersen
DTSTAMP:20260420T181119
SUMMARY:Ww-Terminator: Schützenfest in Bellersen - Bellersen
URL;VALUE=URI:https://www.wildwechsel.de/wildwechsel-terminator/event/schuetzenfest-in-bellersen-meinolfushalle-bellersen-267225/
CLASS:PUBLIC
DESCRIPTION:Schützenfest Bellersen 2026: Ausklang am 25. Mai

Am Montag, 25. Mai 2026, klingt das Schützenfest in Bellersen mit einem traditionellen Abschlusstag aus. Nach zwei festlichen Tagen bildet dieser Termin den feierlichen Schlusspunkt des Pfingstwochenendes rund um die Meinolfushalle.

Abschluss im Zeichen der Tradition

Der letzte Veranstaltungstag ist geprägt von bewährten Ritualen und einem gemeinschaftlichen Ausklang. Das amtierende Königspaar Malte und Marie Benning begleitet zusammen mit dem Hofstaat die finalen Programmpunkte und verabschiedet das Fest in gewohnt festlicher Atmosphäre.

Gemeinschaftlicher Ausklang des Festes

Der 25. Mai bietet noch einmal Gelegenheit, das Schützenfest in geselliger Runde zu genießen. Im Mittelpunkt stehen Begegnungen, Gespräche und das gemeinsame Erleben der letzten Stunden eines traditionsreichen Festes.

Veranstaltungsort ist die Meinolfushalle in Brakel-Bellersen. Weitere Programmdetails werden ergänzend bekanntgegeben.
UID:20260420T181119-19700101T010000-19700101T010000
END:VEVENT
END:VCALENDAR