BEGIN:VCALENDAR
VERSION:2.0
PRODID:-//wildwechsel//wildwechsel.de//DE
METHOD:PUBLISH
CALSCALE:GREGORIAN
BEGIN:VEVENT
DTSTART:19700101T010000
DTEND:19700101T010000
LOCATION:Bürgerhalle Löwen\, \, Willebadessen-Löwen
DTSTAMP:20260419T163615
SUMMARY:Ww-Terminator: Schützenfest - Willebadessen-Löwen
URL;VALUE=URI:https://www.wildwechsel.de/wildwechsel-terminator/event/schuetzenfest-buergerhalle-loewen-willebadessen-loewen-266821/
CLASS:PUBLIC
DESCRIPTION:So 12.Jul 2026 um ??:?? im Bürgerhalle Löwen
UID:20260419T163615-19700101T010000-19700101T010000
END:VEVENT
END:VCALENDAR