BEGIN:VCALENDAR
VERSION:2.0
PRODID:-//wildwechsel//wildwechsel.de//DE
METHOD:PUBLISH
CALSCALE:GREGORIAN
BEGIN:VEVENT
DTSTART:20260608T103000
DTEND:20260608T143000
LOCATION:Alleeplatz Ziegenhain\, \, Schwalmstadt-Ziegenhain
DTSTAMP:20260422T174534
SUMMARY:Ww-Terminator: Salatkirmes Ziegenhain - Schwalmstadt-Ziegenhain
URL;VALUE=URI:https://www.wildwechsel.de/wildwechsel-terminator/event/salatkirmes-ziegenhain-alleeplatz-ziegenhain-schwalmstadt-ziegenhain-267234/
CLASS:PUBLIC
DESCRIPTION:Salatkirmes Ziegenhain 2026: Familienfreundlicher Ausklang am Kirmesmontag

Am Montag, 8. Juni 2026, klingt die Salatkirmes in Ziegenhain mit einem vielseitigen und familienorientierten Programm aus. Der letzte Festtag verbindet Tradition, Unterhaltung und gemeinschaftliche Aktivitäten.

Auftakt mit Übung und Frühschoppen

Bereits am Vormittag zeigt die Freiwillige Feuerwehr Ziegenhain bei einer Übung ihr Können. Im Anschluss folgt ein gemeinsamer Marsch mit Musik ins Festzelt, wo das traditionelle „Lattchen“ der Neubürgerinnen und Neubürger sowie ein Frühschoppen mit musikalischer Begleitung stattfinden.

Familientag auf dem Festplatz

Von 11:00 bis 20:00 Uhr steht der Rummelplatz ganz im Zeichen der Familien. Fahrgeschäfte und Buden bieten ein abwechslungsreiches Angebot zu ermäßigten Preisen und schaffen damit einen attraktiven Rahmen für Besucher aller Altersgruppen.

After-Work-Party zum Abschluss

Am frühen Abend sorgt die „Partyband Sunday“ bei der After-Work-Party für den musikalischen Ausklang. Damit endet die Salatkirmes mit einem geselligen und unterhaltsamen Abschluss.

Der Kirmesmontag rundet das Festprogramm mit einer Mischung aus Tradition, Familienangeboten und Musik ab.
UID:20260422T174534-20260608T103000-20260608T143000
END:VEVENT
END:VCALENDAR