BEGIN:VCALENDAR
VERSION:2.0
PRODID:-//wildwechsel//wildwechsel.de//DE
METHOD:PUBLISH
CALSCALE:GREGORIAN
BEGIN:VEVENT
DTSTART:20260607T130000
DTEND:20260607T170000
LOCATION:Alleeplatz Ziegenhain\, \, Schwalmstadt-Ziegenhain
DTSTAMP:20260422T192244
SUMMARY:Ww-Terminator: Salatkirmes Ziegenhain - Schwalmstadt-Ziegenhain
URL;VALUE=URI:https://www.wildwechsel.de/wildwechsel-terminator/event/salatkirmes-ziegenhain-alleeplatz-ziegenhain-schwalmstadt-ziegenhain-267233/
CLASS:PUBLIC
DESCRIPTION:Salatkirmes Ziegenhain 2026: Höhepunkt am Kirmessonntag

Am Sonntag, 7. Juni 2026, erreicht die Salatkirmes in Ziegenhain ihren traditionellen Höhepunkt. Der Kirmessonntag verbindet religiöse, kulturelle und unterhaltsame Programmpunkte zu einem zentralen Festtag.

Festlicher Start mit Gottesdienst

Bereits am Vormittag beginnt der Tag mit einem ökumenischen Gottesdienst im Festzelt. Ab 13:00 Uhr öffnet anschließend der Festplatz und bietet Raum für das weitere Tagesgeschehen.

Großer Festzug als Highlight

Im Mittelpunkt steht ab 14:00 Uhr der große Festzug, der unter dem Motto „Berufe in der Schwalm – Im Wandel der Zeit“ durch die Straßen zieht. Zahlreiche Gruppen präsentieren thematisch gestaltete Beiträge und geben Einblicke in die regionale Entwicklung. Im Anschluss folgt eine Musikshow im Festzelt. Für den Festzug wird ein Eintritt von 4,00 Euro erhoben.

Musikalischer Ausklang am Abend

Ab 19:00 Uhr sorgt die Band „Allen-Head“ für den musikalischen Abschluss des Tages. Der Eintritt ist frei, sodass der Abend offen gestaltet ist und den Kirmessonntag in geselliger Atmosphäre ausklingen lässt.

Der Kirmessonntag vereint Tradition, Gemeinschaft und Unterhaltung und bildet den zentralen Höhepunkt der Salatkirmes.
UID:20260422T192244-20260607T130000-20260607T170000
END:VEVENT
END:VCALENDAR