BEGIN:VCALENDAR
VERSION:2.0
PRODID:-//wildwechsel//wildwechsel.de//DE
METHOD:PUBLISH
CALSCALE:GREGORIAN
BEGIN:VEVENT
DTSTART:20260605T170000
DTEND:20260605T210000
LOCATION:Alleeplatz Ziegenhain\, \, Schwalmstadt-Ziegenhain
DTSTAMP:20260422T192526
SUMMARY:Ww-Terminator: Salatkirmes Ziegenhain - Schwalmstadt-Ziegenhain
URL;VALUE=URI:https://www.wildwechsel.de/wildwechsel-terminator/event/salatkirmes-ziegenhain-alleeplatz-ziegenhain-schwalmstadt-ziegenhain-267232/
CLASS:PUBLIC
DESCRIPTION:Salatkirmes Ziegenhain 2026: Programm am Kirmesfreitag

Am Freitag, 5. Juni 2026, setzt die Salatkirmes in Ziegenhain ihr Festprogramm mit einem stimmungsvollen Abend fort. Der Kirmesfreitag steht dabei ganz im Zeichen von Tradition und geselligem Beisammensein.

Auftakt mit traditionellem Festmarsch

Ab 17:00 Uhr ist der Festplatz geöffnet und lädt zum Besuch ein. Einer der zentralen Programmpunkte folgt um 19:00 Uhr mit dem traditionellen Marsch vom Rathaus zum Festzelt. Im Anschluss erfolgt der Fassanstich sowie die offizielle Begrüßung zum „Ziegenhainer Abend“. Beteiligt sind unter anderem Vertreter aus Politik, Vereinen, Feuerwehr und weitere Gruppen des Festzuges.

Stimmungsvoller Abend mit Live-Musik

Ab 21:00 Uhr sorgt die Band „Dezibel“ für musikalische Unterhaltung im Festzelt. Der Eintritt ist frei, wodurch der Abend bewusst offen und zugänglich für ein breites Publikum gestaltet ist.

Der Kirmesfreitag verbindet feste Bestandteile der Tradition mit einem geselligen Musikprogramm und bildet einen wichtigen Teil des Gesamtgeschehens der Salatkirmes.
UID:20260422T192526-20260605T170000-20260605T210000
END:VEVENT
END:VCALENDAR