BEGIN:VCALENDAR
VERSION:2.0
PRODID:-//wildwechsel//wildwechsel.de//DE
METHOD:PUBLISH
CALSCALE:GREGORIAN
BEGIN:VEVENT
DTSTART:20260603T190000
DTEND:20260603T230000
LOCATION:Paradeplatz Ziegenhain\, \, Schwalmstadt-Ziegenhain
DTSTAMP:20260422T220105
SUMMARY:Ww-Terminator: Salatkirmes - Schwalmstadt-Ziegenhain
URL;VALUE=URI:https://www.wildwechsel.de/wildwechsel-terminator/event/salatkirmes-paradeplatz-ziegenhain-schwalmstadt-ziegenhain-267230/
CLASS:PUBLIC
DESCRIPTION:Salatkirmes Ziegenhain 2026: Auftakt am Kirmesmittwoch

Am Mittwoch, 3. Juni 2026, startet die Salatkirmes in Ziegenhain mit einem traditionellen und musikalisch geprägten Auftaktprogramm. Der Kirmesmittwoch bildet den feierlichen Einstieg in das mehrtägige Festgeschehen.

Traditionelles Ansingen und offizielle Eröffnung

Den Beginn macht um 19:00 Uhr das Kirmesansingen auf dem Paradeplatz. Der Posaunenchor Ziegenhain sowie der Projektchor Steina sorgen für den musikalischen Rahmen und stimmen auf die kommenden Festtage ein. Im Anschluss folgt um 20:00 Uhr die offizielle Eröffnung durch den Bürgermeister sowie den Vorsitzenden der Burschenschaft.

Live-Musik zum Auftakt

Nach dem offiziellen Teil geht das Programm in einen unterhaltsamen Abend über. Mit Live-Musik der Band „The Sunlights“ klingt der erste Kirmestag in geselliger Atmosphäre aus und lädt zum gemeinsamen Feiern ein.

Der Kirmesmittwoch verbindet traditionelle Elemente mit musikalischer Unterhaltung und markiert den stimmungsvollen Start der Salatkirmes in Ziegenhain.
UID:20260422T220105-20260603T190000-20260603T230000
END:VEVENT
END:VCALENDAR